BEGIN:VCALENDAR
VERSION:2.0
PRODID:-//metasdefinidas.com - ECPv6.14.1//NONSGML v1.0//EN
CALSCALE:GREGORIAN
METHOD:PUBLISH
X-ORIGINAL-URL:https://metasdefinidas.com
X-WR-CALDESC:Eventos para metasdefinidas.com
REFRESH-INTERVAL;VALUE=DURATION:PT1H
X-Robots-Tag:noindex
X-PUBLISHED-TTL:PT1H
BEGIN:VTIMEZONE
TZID:UTC
BEGIN:STANDARD
TZOFFSETFROM:+0000
TZOFFSETTO:+0000
TZNAME:UTC
DTSTART:20240101T000000
END:STANDARD
END:VTIMEZONE
BEGIN:VEVENT
DTSTART;TZID=UTC:20240125T050000
DTEND;TZID=UTC:20240125T183000
DTSTAMP:20260422T084046
CREATED:20240103T142440Z
LAST-MODIFIED:20240129T195902Z
UID:2206-1706158800-1706207400@metasdefinidas.com
SUMMARY:Podcast "Equilibrio Total: Cuerpo\, Mente y Espíritu"
DESCRIPTION:En este episodio especial de nuestro podcast\, exploraremos cómo alcanzar el equilibrio entre el cuerpo\, la mente y el espíritu. Contaremos con invitados expertos en nutrición\, psicología y espiritualidad para ofrecer consejos prácticos y motivación. Disponible 24/7 para escuchar a tu conveniencia. \nEste contenido está restringido y es exclusivo para nuestros miembros Mensual y Anual.Accede Únete ahora
URL:https://metasdefinidas.com/event/podcast-equilibrio-total-cuerpo-mente-y-espiritu/
CATEGORIES:Podcast
ATTACH;FMTTYPE=image/jpeg:https://metasdefinidas.com/wp-content/uploads/2024/01/Iema-home.jpg
ORGANIZER;CN="Layssa":MAILTO:layssapimentel@live.nl
END:VEVENT
BEGIN:VEVENT
DTSTART;TZID=UTC:20240118T140000
DTEND;TZID=UTC:20240118T153000
DTSTAMP:20260422T084046
CREATED:20240103T141615Z
LAST-MODIFIED:20240129T202526Z
UID:2204-1705586400-1705591800@metasdefinidas.com
SUMMARY:Sesión de Zoom "Define Tus Metas: Taller Interactivo"
DESCRIPTION:Únete a nosotros en una sesión interactiva de Zoom donde te ayudaremos a definir tus metas personales de bienestar. Este taller incluirá ejercicios prácticos\, discusión en grupos pequeños y asesoramiento personalizado. ¡Prepárate para establecer metas realistas y alcanzables adaptadas a tus necesidades! \nEste contenido está restringido y es exclusivo para nuestros miembros Mensual y Anual.Accede Únete ahora\nLa reunión a pasado\, pero para nuestros miembros\, tenemos un recurso especial: el video grabado. Revive la experiencia y profundiza en el aprendizaje a tu propio ritmo. \nEste contenido está restringido y es exclusivo para nuestros miembros Mensual y Anual.Accede Únete ahora
URL:https://metasdefinidas.com/event/sesion-de-zoom-define-tus-metas-taller-interactivo/
CATEGORIES:Reunión Virtual
ATTACH;FMTTYPE=image/jpeg:https://metasdefinidas.com/wp-content/uploads/2024/01/bottom-home.jpg
ORGANIZER;CN="Layssa":MAILTO:layssapimentel@live.nl
END:VEVENT
BEGIN:VEVENT
DTSTART;TZID=UTC:20240115T100000
DTEND;TZID=UTC:20240115T120000
DTSTAMP:20260422T084046
CREATED:20240103T131850Z
LAST-MODIFIED:20240129T200021Z
UID:2201-1705312800-1705320000@metasdefinidas.com
SUMMARY:Reunión de Telegram "Comunidad y Apoyo: Compartiendo Experiencias"
DESCRIPTION:Participa en nuestra reunión mensual en Telegram donde podrás compartir tus experiencias\, desafíos y éxitos con otros miembros de nuestra comunidad. Esta es una oportunidad única para recibir apoyo\, consejos y hacer nuevas amistades que comparten tus objetivos de bienestar. \nEste contenido está restringido y es exclusivo para nuestros miembros Mensual y Anual.Accede Únete ahora
URL:https://metasdefinidas.com/event/reunion-de-telegram-comunidad-y-apoyo-compartiendo-experiencias/
CATEGORIES:Telegram
ATTACH;FMTTYPE=image/jpeg:https://metasdefinidas.com/wp-content/uploads/2024/01/Back-home.jpg
ORGANIZER;CN="Layssa":MAILTO:layssapimentel@live.nl
END:VEVENT
END:VCALENDAR